BEGIN:VCALENDAR
VERSION:2.0
PRODID:spatie/icalendar-generator
DESCRIPTION:Events from Pulse School Shows
X-WR-CALDESC:Events from Pulse School Shows
REFRESH-INTERVAL;VALUE=DURATION:PT1440M
X-PUBLISHED-TTL:PT1440M
BEGIN:VTIMEZONE
TZID:America/Indiana/Indianapolis
BEGIN:STANDARD
DTSTART:20221106T020000Z
TZOFFSETFROM:-0400
TZOFFSETTO:-0500
END:STANDARD
BEGIN:DAYLIGHT
DTSTART:20230312T020000Z
TZOFFSETFROM:-0500
TZOFFSETTO:-0400
END:DAYLIGHT
BEGIN:STANDARD
DTSTART:20231105T020000Z
TZOFFSETFROM:-0400
TZOFFSETTO:-0500
END:STANDARD
END:VTIMEZONE
BEGIN:VTIMEZONE
TZID:UTC
BEGIN:STANDARD
DTSTART:20250725T083411Z
TZOFFSETFROM:+0000
TZOFFSETTO:+0000
END:STANDARD
END:VTIMEZONE
BEGIN:VEVENT
UID:25-24
DTSTAMP:20260421T083411Z
SUMMARY:Orphan Train - School Show
LOCATION:
ORGANIZER;CN=admin:MAILTO:rtuttle778@frontier.com
DTSTART;TZID=America/Indiana/Indianapolis:20230504T124500
DTEND;TZID=America/Indiana/Indianapolis:20230504T134500
X-ALT-DESC;FMTTYPE=TEXT/HTML:
CATEGORIES:Performance
URL;VALUE=URI:https://schoolshows.pulseoperahouse.org/mc-events/orphan-trai
 n-school-show-2/
METHOD:PUBLISH
END:VEVENT
END:VCALENDAR